BEGIN:VCALENDAR
PRODID:-//Microsoft Corporation//Outlook 12.0 MIMEDIR//EN
VERSION:2.0
CALSCALE:GREGORIAN
BEGIN:VEVENT
UID: bbbaf64d-ed55-4c7f-aead-e812ca128f3f
SUMMARY:Vaatlustundide nädal
DTSTAMP:20250210T000000
DTSTART:20250210T000000
DTEND:20250213T235900
LOCATION:
DESCRIPTION: <p>10. - 13. veebruar on Järva-Jaani Gümnaasiumis vaatlustundide nädal. Lapsevanemal on võimalus külastada ainetunde.&nbsp;</p><p><strong>Link: </strong>https://jjaanikool.ee/et/sundmuste-kalender/vaatlustundide-nadal</p><p><strong>Hind: </strong></p>
STATUS:CONFIRMED
SEQUENCE:3
X-ALT-DESC;FMTTYPE=text/html:<p>10. - 13. veebruar on Järva-Jaani Gümnaasiumis vaatlustundide nädal. Lapsevanemal on võimalus külastada ainetunde.&nbsp;</p><p><strong>Link: </strong>https://jjaanikool.ee/et/sundmuste-kalender/vaatlustundide-nadal</p><p><strong>Hind: </strong></p>
X-MICROSOFT-CDO-BUSYSTATUS:OOF
X-MICROSOFT-CDO-IMPORTANCE:1
X-MICROSOFT-DISALLOW-COUNTER:FALSE
X-MS-OLK-ALLOWEXTERNCHECK:TRUE
X-MS-OLK-CONFTYPE:0
X-MICROSOFT-CDO-ALLDAYEVENT:
X-MICROSOFT-MSNCALENDAR-ALLDAYEVENT:
END:VEVENT
END:VCALENDAR